BEGIN:VCALENDAR
VERSION:2.0
PRODID:-//http://www.itwatch.de//
METHOD:PUBLISH
BEGIN:VEVENT
UID:20260422T042640Z@http://www.itwatch.de/
DTSTAMP:20260422T042640Z
DESCRIPTION:28. Europäischer PolizeikongressInternationaler Kongress für Entscheidungsträger von Polizei\, Sicherheitsbehörden und Industrie.\;
DTSTART:20250520T110000Z
DTEND:20250521T190000Z
LOCATION:Berlin
SUMMARY:28. EPK
END:VEVENT
END:VCALENDAR
