BEGIN:VCALENDAR
VERSION:2.0
PRODID:-//http://www.itwatch.de//
METHOD:PUBLISH
BEGIN:VEVENT
UID:20260421T113853Z@http://www.itwatch.de/
DTSTAMP:20260421T113853Z
DESCRIPTION:\;
DTSTART:20250428T110000Z
DTEND:20250501T180000Z
LOCATION:San Francisco
SUMMARY:RSA 2025
END:VEVENT
END:VCALENDAR
