BEGIN:VCALENDAR
VERSION:2.0
PRODID:-//http://www.itwatch.de//
METHOD:PUBLISH
BEGIN:VEVENT
UID:20260421T115740Z@http://www.itwatch.de/
DTSTAMP:20260421T115740Z
DESCRIPTION:\;
DTSTART:20241120T100000Z
DTEND:20241120T180000Z
LOCATION:Berlin
SUMMARY:BER Security Conf.
END:VEVENT
END:VCALENDAR
