BEGIN:VCALENDAR
VERSION:2.0
PRODID:-//http://www.itwatch.de//
METHOD:PUBLISH
BEGIN:VEVENT
UID:20260421T114009Z@http://www.itwatch.de/
DTSTAMP:20260421T114009Z
DESCRIPTION:Deutor unterstützt Unternehmen und Behörden bei der Identifizierung ihrer kritischen Geschäftsstrukturen\, Prozesse und Systeme\, ihren Schwachstellen bei Cyber-Attacken und definieren geeignete Sicherheitsmaßnahmen.https://deutor.de/conference2024/\;
DTSTART:20240612T110000Z
DTEND:20240612T200000Z
LOCATION:Hamburg
SUMMARY:Deutor 2024
END:VEVENT
END:VCALENDAR
