BEGIN:VCALENDAR
VERSION:2.0
PRODID:-//http://www.itwatch.de//
METHOD:PUBLISH
BEGIN:VEVENT
UID:20260421T133542Z@http://www.itwatch.de/
DTSTAMP:20260421T133542Z
DESCRIPTION:\;
DTSTART:20241022T110000Z
DTEND:20241024T190000Z
LOCATION:Nürnberg
SUMMARY:it-sa 2024
END:VEVENT
END:VCALENDAR
