BEGIN:VCALENDAR
VERSION:2.0
PRODID:-//http://www.itwatch.de//
METHOD:PUBLISH
BEGIN:VEVENT
UID:20260422T235701Z@http://www.itwatch.de/
DTSTAMP:20260422T235701Z
DESCRIPTION:Die itWatch ist auch Teilnehmer im German Pavilion:https://rsac.german-pavilion.com/en/sites/exhibitors/102872\;
DTSTART:20240506T110000Z
DTEND:20240509T200000Z
LOCATION:San Francisco
SUMMARY:RSA 24
END:VEVENT
END:VCALENDAR
