BEGIN:VCALENDAR
VERSION:2.0
PRODID:-//http://www.itwatch.de//
METHOD:PUBLISH
BEGIN:VEVENT
UID:20260423T012713Z@http://www.itwatch.de/
DTSTAMP:20260423T012713Z
DESCRIPTION:https://www.europaeischer-polizeikongress.de/\;
DTSTART:20240416T110000Z
DTEND:20240417T200000Z
LOCATION:Berlin
SUMMARY:EPK 24
END:VEVENT
END:VCALENDAR
