BEGIN:VCALENDAR
VERSION:2.0
PRODID:-//http://www.itwatch.de//
METHOD:PUBLISH
BEGIN:VEVENT
UID:20260423T094909Z@http://www.itwatch.de/
DTSTAMP:20260423T094909Z
DESCRIPTION:&nbsp;&nbsp;&nbsp;&nbsp;&nbsp;&nbsp;&nbsp;&nbsp;&nbsp;&nbsp;&nbsp; Neueste Technologien wie die generative künstliche Intelligenz und Quantencomputer besitzen hohes Innovationspotenzial und eröffnen Chancen für Wirtschaft und Gesellschaft. Gleichzeitig bedeuten sie ein erhöhtes Risiko für eine Zunahme und Ausweitung von Cyberangriffen und führen sogar zu einer neuen Bedrohungslage. Als führendes Forschungsinstitut für angewandte Cybersicherheitsforschung entwickelt das Fraunhofer-Institut für Angewandte und Integrierte Sicherheit AISEC neue Methoden\, Werkzeuge und technische Lösungen\, um die Risiken zu begrenzen und die Chancen der neuen Technologien vertrauenswürdig nutzbar zu machen.&nbsp;https://www.aisec.fraunhofer.de/de/presse-und-veranstaltungen/veranstaltungen/Cybersicherheitstag2023.html\;
DTSTART:20231109T140000Z
DTEND:20231109T180000Z
LOCATION:Garching bei München
SUMMARY:Fraunhofer AISEC
END:VEVENT
END:VCALENDAR
