BEGIN:VCALENDAR
VERSION:2.0
PRODID:-//http://www.itwatch.de//
METHOD:PUBLISH
BEGIN:VEVENT
UID:20260421T133542Z@http://www.itwatch.de/
DTSTAMP:20260421T133542Z
DESCRIPTION:Für Staat und Politik\, Wirtschaft\, Wissenschaft und Zivilgesellschaft ist das Thema Cybersicherheit aktueller und präsenter denn je.Am&nbsp;28. November 2023 veranstaltet der Nationale Cyber-Sicherheitsrat der Bundesregierung daher von 10:00 Uhr bis 17:30 Uhr in der Niedersächsischen Landesvertretung den ersten&nbsp;Berliner Cybersicherheitsgipfel\, der einen Rahmen bieten soll\, mit allen relevanten Stakeholdern dieses wichtige Thema zu diskutieren und Impulse für die Weiterentwicklung der Nationalen Cybersicherheitsstrategie aus dem Jahr 2021 zu geben.\;
DTSTART:20231128T110000Z
DTEND:20231128T183000Z
LOCATION:Berlin
SUMMARY:Cybersicherheit 23
END:VEVENT
END:VCALENDAR
