BEGIN:VCALENDAR
VERSION:2.0
PRODID:-//http://www.itwatch.de//
METHOD:PUBLISH
BEGIN:VEVENT
UID:20260421T115748Z@http://www.itwatch.de/
DTSTAMP:20260421T115748Z
DESCRIPTION:2nd ENISA Cybersecurity Market Analysis Conference&nbsp;https://www.enisa.europa.eu/events/enisa-cybersecurity-market-analysis-conference-2023\;
DTSTART:20230928T154500Z
DTEND:20230929T194000Z
LOCATION:Heraklion
SUMMARY:ENISA2023
END:VEVENT
END:VCALENDAR
