BEGIN:VCALENDAR
VERSION:2.0
PRODID:-//http://www.itwatch.de//
METHOD:PUBLISH
BEGIN:VEVENT
UID:20260421T115745Z@http://www.itwatch.de/
DTSTAMP:20260421T115745Z
DESCRIPTION:Die Deutsche Gesellschaft für Wehrtechnik e. V. versteht sich als&nbsp;neutrale Dialog- und Informationsplattform im Spannungsfeld von Bundeswehr\, Forschung\, Wirtschaft\, Politik und Gesellschaft.https://veranstaltungen.dwt-sgw.de/?v=92\;
DTSTART:20230808T110000Z
DTEND:20230809T200000Z
LOCATION:Berlin
SUMMARY:BID 2023
END:VEVENT
END:VCALENDAR
