BEGIN:VCALENDAR
VERSION:2.0
PRODID:-//http://www.itwatch.de//
METHOD:PUBLISH
BEGIN:VEVENT
UID:20260423T200119Z@http://www.itwatch.de/
DTSTAMP:20260423T200119Z
DESCRIPTION:https://www.europaeischer-polizeikongress.de/\;
DTSTART:20230503T120000Z
DTEND:20230504T200000Z
LOCATION:Berlin
SUMMARY:EPK 2023
END:VEVENT
END:VCALENDAR
