BEGIN:VCALENDAR
VERSION:2.0
PRODID:-//http://www.itwatch.de//
METHOD:PUBLISH
BEGIN:VEVENT
UID:20260424T032827Z@http://www.itwatch.de/
DTSTAMP:20260424T032827Z
DESCRIPTION:Ramon Mörl\, Geschäftsführer der itWatch: 14:45 – 15:25 Uhr Vortrag zum Thema „Qualität und Sicherheit durch vertrauenswürdige Lieferketten“https://ese-kongress.de/frontend/index.php\;
DTSTART:20221206T100000Z
DTEND:20221209T191500Z
LOCATION:Sindelfingen 
SUMMARY:ESE
END:VEVENT
END:VCALENDAR
