BEGIN:VCALENDAR
VERSION:2.0
PRODID:-//http://www.itwatch.de//
METHOD:PUBLISH
BEGIN:VEVENT
UID:20260423T202302Z@http://www.itwatch.de/
DTSTAMP:20260423T202302Z
DESCRIPTION:https://www.rsaconference.com/usa\;
DTSTART:20230424T120000Z
DTEND:20230427T200000Z
LOCATION:San Francisco
SUMMARY:RSA 2023
END:VEVENT
END:VCALENDAR
