BEGIN:VCALENDAR
VERSION:2.0
PRODID:-//http://www.itwatch.de//
METHOD:PUBLISH
BEGIN:VEVENT
UID:20260424T073959Z@http://www.itwatch.de/
DTSTAMP:20260424T073959Z
DESCRIPTION:\;
DTSTART:20220830T110000Z
DTEND:20220830T183000Z
LOCATION:Fürstenfeldbruck
SUMMARY:Mobile_Police_2022
END:VEVENT
END:VCALENDAR
