BEGIN:VCALENDAR
VERSION:2.0
PRODID:-//http://www.itwatch.de//
METHOD:PUBLISH
BEGIN:VEVENT
UID:20260424T091526Z@http://www.itwatch.de/
DTSTAMP:20260424T091526Z
DESCRIPTION:Die CODE-Jahrestagungen zeichnen sich&nbsp;durch ihren Vernetzungs- und Austauschcharakter zwischen Wissenschaft\, Industrie\, Behörden und Militär aus und ziehen jedes Jahr mehrere hundert internationale Teilnehmende an.https://www.unibw.de/code/events/jahrestagungen\;
DTSTART:20220713T110000Z
DTEND:20220714T180000Z
LOCATION:München
SUMMARY:Code 2022
END:VEVENT
END:VCALENDAR
