BEGIN:VCALENDAR
VERSION:2.0
PRODID:-//http://www.itwatch.de//
METHOD:PUBLISH
BEGIN:VEVENT
UID:20260424T050234Z@http://www.itwatch.de/
DTSTAMP:20260424T050234Z
DESCRIPTION:Auch 2022 finden Sie itWatch direkt an den Haupt-Zugängen zur Messehalle auf der it-sa in Nürnberg\, Europas größter Fachmesse für IT-Security\, auf einem großzügigen Messestand in bester Lage:Wo?&nbsp;Nürnberg Messe\, Halle 7A\, Stand: 108Wann?&nbsp;25. – 27.10.2022itWatch präsentiert vor Ort ihre modular aufgebaute\, innovative Security Software und die vielfältigen Einsatzgebiete:itWash&nbsp;– Datenschleuse mit Datenwäsche und WorkflowIn allen Branchen und Geschäftsbereichen wird mit Daten und Informationen aus unterschiedlichen Quellen gearbeitet. Aber das Risiko\, durch Ransomware\, Hacker oder andere maliziöse Prozesse sein produktives System zu schädigen\, steigt mit jeder Datei unsicherer Herkunft\, die ungeprüft Eingang findet. Die itWash kann z.B. Kiosk im Empfangsbereich\, als zentrale Einheit zur Netztrennung\, zur Prüfung für Bürgerdaten z.B. bei OZG\, mobil oder einfach am Arbeitsplatz eingesetzt werden. So werden potentiell schädliche Daten von extern (Web\, E-Mail\, USB- Stick\, Mobilgeräte…) in sicherer\, technisch entkoppelter Umgebung auf schädliche Elemente geprüft und von diesen und jeglichem (Schad-) Code befreit. Somit können auch eingangs potentiell schädliche Daten nach der Datenwäsche genutzt werden.&nbsp; itWESS&nbsp;– Die itWatch Enterprise Security SuiteUnsere EDR-Lösung mit vielen weltweiten Alleinstellungsmerkmalen bietet umfassenden Schutz für den gesamten Lebenszyklus sensibler Daten und Services. Inklusive Schutz vor Datenklau\, Endgeräte-Sicherheit\, Verschlüsselung\, Monitoring\, u.v.m.Für Sie besonders interessant:   itWash in itWESS integriert: Ob über Mail-Attachments in Outlook\, Mobile Datenträger\, Downloads aus dem Internet\, oder jeglicher anderer externer Datenquelle können die Daten immer über die Waschmaschine geleitet werden und am Arbeitsplatz gewaschen angeboten werden  Erweiterte Inventarisierung Ihrer IT-Risiken  Erweiterte Funktionen des itWash-Management Servers verbessern die Verwaltung großer Datenmengen und der Steuerung vieler itWash-Instanzen.   Im&nbsp;Vortrag von Ramon Mörl\, dem Geschäftsführer der itWatch\, erfahren Sie mehr über spezielle Nutzungen der Datenwäsche mit itWash : „Datenwäsche gegen Cyberangriffe und Ransomware einsetzen“.Wo?&nbsp;Forum E (Halle 7A)Wann?&nbsp;26.10.2022\, 11:15 Uhr bis 11:30 UhrWir freuen uns auf Ihren Besuch.\;
DTSTART:20221025T110000Z
DTEND:20221027T190000Z
LOCATION:Nürnberg
SUMMARY:it-sa 2022
END:VEVENT
END:VCALENDAR
