BEGIN:VCALENDAR
VERSION:2.0
PRODID:-//http://www.itwatch.de//
METHOD:PUBLISH
BEGIN:VEVENT
UID:20260423T185117Z@http://www.itwatch.de/
DTSTAMP:20260423T185117Z
DESCRIPTION:Die AFCEA Fachkonferenz&nbsp;im World Conference Center in Bonn bietet eine Dialogplattform für spannende Gespräche rund um die IT-Sicherheit für Bundeswehr und andere staatliche Organisationen.In den vergangenen zwei Jahren sind viele wirkende Produkte für die militärische Nutzung mit den Produkten der itWatch als sichere Infrastruktur ausgestattet worden\, die keine Netzanbindung oder Administration vor Ort benötigen und sichere Patch- und Updatemöglichkeiten schaffen.Thema:&nbsp;(Künstliche) Intelligenz &amp; InnovationenChancen für Mensch und Technik&nbsp;itWatch ist wieder vor Ort und freut sich auf Ihren Besuch! Nutzen Sie die Gelegenheit\, mit unseren Mitarbeiter*innen und Consultants Ihre aktuellsten Herausforderungen der Cyber Security zu besprechen. Mit den itWatch Produkten wie der itWatch Enterprise Security Suite (itWESS)\, zur Härtung aller Windows Infrastrukturen\, und der itWash\, Datenschleuse mit Datenwäsche und Workflow\, um jeglichen Angriffsvektor aus eingehenden Daten professionell herauszuwaschen\, können Sie Ihren Schutz im Cyber-Raum geeignet ausbauen. Beide Produkte bieten durch eine enge Verzahnung und die kooperativen Schnittstellen mit anderen Cyber-Security-Produkten weitere Mehrwerte\, wie bereits auf dem BSI Kongress vorgestellt.&nbsp;Erfahren dazu mehr auf der AFCEA Fachausstellung am 10. und 11.05.2023&nbsp;im&nbsp;World Conference Center&nbsp;in Bonn\,&nbsp;an unserem&nbsp;Stand S10.Gerne stellen wir Ihnen unsere Produkte persönlich vor. Wir freuen uns darauf\, Sie dort zu treffen!&nbsp;Weitere Infos unter&nbsp;AFCEA-Fachausstellung 2023\;
DTSTART:20230510T110000Z
DTEND:20230511T200000Z
LOCATION:Bonn
SUMMARY:AFCEA 2023
END:VEVENT
END:VCALENDAR
