BEGIN:VCALENDAR
VERSION:2.0
PRODID:-//http://www.itwatch.de//
METHOD:PUBLISH
BEGIN:VEVENT
UID:20260424T050234Z@http://www.itwatch.de/
DTSTAMP:20260424T050234Z
DESCRIPTION:it-sa 365 bringt ab dem 6. Oktober 2020 für die Messe geplante Beiträge online und bietet ganzjährig innovative Dialogformate\, um IT-Sicherheitsanbieter mit Experten und Entscheidern zu vernetzen.itWatch wird aktiv dabei sein. Mehr Informationen finden Sie hier:&nbsp;https://www.itsa365.de/de-de/suche#e=0&amp;q=itWatch\;
DTSTART:20201006T110000Z
DTEND:20221006T190000Z
LOCATION:Online
SUMMARY:it-sa 365
END:VEVENT
END:VCALENDAR
